BEGIN:VCALENDAR
VERSION:2.0
PRODID:-//Deborah Myers Wellness - ECPv6.14.2//NONSGML v1.0//EN
CALSCALE:GREGORIAN
METHOD:PUBLISH
X-WR-CALNAME:Deborah Myers Wellness
X-ORIGINAL-URL:https://www.deborahmyerswellness.com
X-WR-CALDESC:Events for Deborah Myers Wellness
REFRESH-INTERVAL;VALUE=DURATION:PT1H
X-Robots-Tag:noindex
X-PUBLISHED-TTL:PT1H
BEGIN:VTIMEZONE
TZID:America/Los_Angeles
BEGIN:DAYLIGHT
TZOFFSETFROM:-0800
TZOFFSETTO:-0700
TZNAME:PDT
DTSTART:20220313T100000
END:DAYLIGHT
BEGIN:STANDARD
TZOFFSETFROM:-0700
TZOFFSETTO:-0800
TZNAME:PST
DTSTART:20221106T090000
END:STANDARD
END:VTIMEZONE
BEGIN:VEVENT
DTSTART;TZID=America/Los_Angeles:20220323T180000
DTEND;TZID=America/Los_Angeles:20220323T193000
DTSTAMP:20260423T114037
CREATED:20220227T001451Z
LAST-MODIFIED:20220227T001717Z
UID:7946-1648058400-1648063800@www.deborahmyerswellness.com
SUMMARY:Live the Life You Love
DESCRIPTION:An interactive self-help acupressure workshop \nManifest Your Destiny and Step into the REAL You \nCelebrate your successes\, ditch the to do’s \nSee & feel the possibilities when you focus on YOU. Clear your mind & clear your heart! \n\nReclaim your joy\nTake action with ease\nAccentuate the positive\nFocus on the follow through\nFulfill your dreams\n\n  \nLearn to live in a body that is healthy and vibrant with a strong immune system. \n“I consistently use the information and suggestions from one of Deborah’s prosperity workshops that I attended several years ago. I do my daily energy balancing religiously. And that helps me notice that if I’m feeling frustrated about something\, it’s often because I’m not getting something accomplished that I had my heart set on. Deborah’s self-help acupressure suggestions give me the extra juice to get me unstuck and go forward. I love being able to see what I want and head in that direction – knowing that when I make use of those energy tips\, the trip is a whole lot easier. And I sure am a whole lot happier when I see all my successes!” \nStar Dewar\, Photographer\, Sonoma County \nHow to Register for the Workshop \nClick Here to sign up for the workshop. And\, if you can’t attend the live class\, you’ll be able to access the recordings. \nYou are worth it!! \nYour investment in your improved physical and mental health: \nYou’ll pay $147.00 for all 3 class meetings when you register by March 20! \nThe meetings will take place via Zoom over three Wednesday evenings from 6:00 to 7:30 pm PST \n\nMarch 23\nMarch 30\nApril 6\n\n  \nWebinar Value: $597 \nRegular rate: $247 \nEarly-bird rate: $147 (until March 20)\n \nShare this :
URL:https://www.deborahmyerswellness.com/event/live-the-life-you-love/
LOCATION:Zoom Room
CATEGORIES:Webinar,Workshop
ATTACH;FMTTYPE=image/png:https://www.deborahmyerswellness.com/wp-content/uploads/2022/02/AdobeStock_94945833-Life-You-Love-01.png
ORGANIZER;CN="Deborah Myers":MAILTO:deborah@deborahmyerswellness.com
END:VEVENT
END:VCALENDAR