BEGIN:VCALENDAR
VERSION:2.0
PRODID:-//Deborah Myers Wellness - ECPv6.14.2//NONSGML v1.0//EN
CALSCALE:GREGORIAN
METHOD:PUBLISH
X-WR-CALNAME:Deborah Myers Wellness
X-ORIGINAL-URL:https://www.deborahmyerswellness.com
X-WR-CALDESC:Events for Deborah Myers Wellness
REFRESH-INTERVAL;VALUE=DURATION:PT1H
X-Robots-Tag:noindex
X-PUBLISHED-TTL:PT1H
BEGIN:VTIMEZONE
TZID:America/Los_Angeles
BEGIN:DAYLIGHT
TZOFFSETFROM:-0800
TZOFFSETTO:-0700
TZNAME:PDT
DTSTART:20200308T100000
END:DAYLIGHT
BEGIN:STANDARD
TZOFFSETFROM:-0700
TZOFFSETTO:-0800
TZNAME:PST
DTSTART:20201101T090000
END:STANDARD
END:VTIMEZONE
BEGIN:VEVENT
DTSTART;TZID=America/Los_Angeles:20200504T183000
DTEND;TZID=America/Los_Angeles:20200504T193000
DTSTAMP:20260424T193223
CREATED:20200406T224539Z
LAST-MODIFIED:20200415T213528Z
UID:5431-1588617000-1588620600@www.deborahmyerswellness.com
SUMMARY:Reset Your Resilience Workshop Week 4
DESCRIPTION:Be a Cool Cat and Reset Your Resilience!\nDiscover that you can make a difference in your own health and vitality during this challenging and stressful time. Learn easy self-help acupressure and discover how to be a partner with your body. Get ahead of stress and anxiety so you can manage it. Help your body be healthier and stronger. \nFour Monday evenings: April 13\, 20\, 27\, May 4\, 6:30 to 7:30 pm\, Live Zoom meetings with handouts.\nRegister by clicking here\nReplays of the live workshop will be available to registrants. \nYour investment in your improved health: Only $89.00 for all 4 class meetings. You can also make two payments of $49.00. Pay online or by check. \nAfter registering\, you will receive a confirmation email containing information about joining the meetings. \nThe price of the class goes up to $236.00 after May 5. \nIf you wish to purchase a complete Energy Balancing Care Guide\, contact Deborah. \nShare this :
URL:https://www.deborahmyerswellness.com/event/reset-your-resilience-workshop-week-4/
CATEGORIES:Webinar,Workshop
ATTACH;FMTTYPE=image/png:https://www.deborahmyerswellness.com/wp-content/uploads/2020/04/Cool-Cat.png
ORGANIZER;CN="Deborah Myers":MAILTO:deborah@deborahmyerswellness.com
END:VEVENT
BEGIN:VEVENT
DTSTART;TZID=America/Los_Angeles:20200527T183000
DTEND;TZID=America/Los_Angeles:20200527T193000
DTSTAMP:20260424T193223
CREATED:20200521T023037Z
LAST-MODIFIED:20200521T023037Z
UID:5610-1590604200-1590607800@www.deborahmyerswellness.com
SUMMARY:Easy Stress-Busting Tips for Your Kids and You!
DESCRIPTION:In this free webinar\, you will learn how to use self-help acupressure to get ahead of anxiety and stress. You will experience how to find your breath\, ways to relieve stress\, what to do to get better sleep\, and boost your immune system. \nClick Here to Register \nShare this :
URL:https://www.deborahmyerswellness.com/event/easy-stress-busting-tips-for-your-kids-and-you/
LOCATION:Zoom Room
CATEGORIES:Webinar,Workshop
ORGANIZER;CN="Deborah Myers":MAILTO:deborah@deborahmyerswellness.com
END:VEVENT
END:VCALENDAR