BEGIN:VCALENDAR
VERSION:2.0
PRODID:-//Deborah Myers Wellness - ECPv6.14.2//NONSGML v1.0//EN
CALSCALE:GREGORIAN
METHOD:PUBLISH
X-ORIGINAL-URL:https://www.deborahmyerswellness.com
X-WR-CALDESC:Events for Deborah Myers Wellness
REFRESH-INTERVAL;VALUE=DURATION:PT1H
X-Robots-Tag:noindex
X-PUBLISHED-TTL:PT1H
BEGIN:VTIMEZONE
TZID:America/Los_Angeles
BEGIN:DAYLIGHT
TZOFFSETFROM:-0800
TZOFFSETTO:-0700
TZNAME:PDT
DTSTART:20210314T100000
END:DAYLIGHT
BEGIN:STANDARD
TZOFFSETFROM:-0700
TZOFFSETTO:-0800
TZNAME:PST
DTSTART:20211107T090000
END:STANDARD
END:VTIMEZONE
BEGIN:VEVENT
DTSTART;TZID=America/Los_Angeles:20210428T183000
DTEND;TZID=America/Los_Angeles:20210428T193000
DTSTAMP:20260424T020900
CREATED:20210325T000158Z
LAST-MODIFIED:20210325T000622Z
UID:6599-1619634600-1619638200@www.deborahmyerswellness.com
SUMMARY:Break the Stress Habit
DESCRIPTION:Mindfulness begins with your body. Energy flows bring attention to your body and free your mind from chatter—or at least slow down the side conversations. \nLearn 3 energy flows to interrupt your stress habit: \n\nAmp up Focus\nDeeper Sleep\nJoyful relationships\n\nStress is a storyline you can rewrite for a happier life. \nIncluded in your registration: \n\nHandouts\nWorkshop Recordings\n\nRegister for the workshop and break your stress habit. \nThree Wednesdays: April 28\, May 5\, May 12\n6:30-7:30 pm PDT \n$197.00 is a small investment in your wellbeing. \nRegister now at http://bit.ly/StressHabit \nShare this :
URL:https://www.deborahmyerswellness.com/event/break-the-stress-habit/
LOCATION:Zoom Room
CATEGORIES:Webinar,Workshop
ATTACH;FMTTYPE=image/png:https://www.deborahmyerswellness.com/wp-content/uploads/2021/03/stress-to-wellness.png
ORGANIZER;CN="Deborah Myers":MAILTO:deborah@deborahmyerswellness.com
END:VEVENT
BEGIN:VEVENT
DTSTART;TZID=America/Los_Angeles:20210428T183000
DTEND;TZID=America/Los_Angeles:20210428T193000
DTSTAMP:20260424T020900
CREATED:20210325T000703Z
LAST-MODIFIED:20210325T000703Z
UID:6608-1619634600-1619638200@www.deborahmyerswellness.com
SUMMARY:Break the Stress Habit Week 2
DESCRIPTION:Mindfulness begins with your body. Energy flows bring attention to your body and free your mind from chatter—or at least slow down the side conversations. \nLearn 3 energy flows to interrupt your stress habit: \n\nAmp up Focus\nDeeper Sleep\nJoyful relationships\n\nStress is a storyline you can rewrite for a happier life. \nIncluded in your registration: \n\nHandouts\nWorkshop Recordings\n\nRegister for the workshop and break your stress habit. \nThree Wednesdays: April 28\, May 5\, May 12\n6:30-7:30 pm PDT \n$197.00 is a small investment in your wellbeing. \nRegister now at http://bit.ly/StressHabit \nShare this :
URL:https://www.deborahmyerswellness.com/event/break-the-stress-habit-week-2/
LOCATION:Zoom Room
CATEGORIES:Webinar,Workshop
ATTACH;FMTTYPE=image/png:https://www.deborahmyerswellness.com/wp-content/uploads/2021/03/stress-to-wellness.png
ORGANIZER;CN="Deborah Myers":MAILTO:deborah@deborahmyerswellness.com
END:VEVENT
BEGIN:VEVENT
DTSTART;TZID=America/Los_Angeles:20210428T183000
DTEND;TZID=America/Los_Angeles:20210428T193000
DTSTAMP:20260424T020900
CREATED:20210325T000737Z
LAST-MODIFIED:20210325T000737Z
UID:6610-1619634600-1619638200@www.deborahmyerswellness.com
SUMMARY:Break the Stress Habit Week 3
DESCRIPTION:Mindfulness begins with your body. Energy flows bring attention to your body and free your mind from chatter—or at least slow down the side conversations. \nLearn 3 energy flows to interrupt your stress habit: \n\nAmp up Focus\nDeeper Sleep\nJoyful relationships\n\nStress is a storyline you can rewrite for a happier life. \nIncluded in your registration: \n\nHandouts\nWorkshop Recordings\n\nRegister for the workshop and break your stress habit. \nThree Wednesdays: April 28\, May 5\, May 12\n6:30-7:30 pm PDT \n$197.00 is a small investment in your wellbeing. \nRegister now at http://bit.ly/StressHabit \nShare this :
URL:https://www.deborahmyerswellness.com/event/break-the-stress-habit-week-3/
LOCATION:Zoom Room
CATEGORIES:Webinar,Workshop
ATTACH;FMTTYPE=image/png:https://www.deborahmyerswellness.com/wp-content/uploads/2021/03/stress-to-wellness.png
ORGANIZER;CN="Deborah Myers":MAILTO:deborah@deborahmyerswellness.com
END:VEVENT
END:VCALENDAR