BEGIN:VCALENDAR
VERSION:2.0
PRODID:-//Deborah Myers Wellness - ECPv6.14.2//NONSGML v1.0//EN
CALSCALE:GREGORIAN
METHOD:PUBLISH
X-ORIGINAL-URL:https://www.deborahmyerswellness.com
X-WR-CALDESC:Events for Deborah Myers Wellness
REFRESH-INTERVAL;VALUE=DURATION:PT1H
X-Robots-Tag:noindex
X-PUBLISHED-TTL:PT1H
BEGIN:VTIMEZONE
TZID:America/Los_Angeles
BEGIN:DAYLIGHT
TZOFFSETFROM:-0800
TZOFFSETTO:-0700
TZNAME:PDT
DTSTART:20220313T100000
END:DAYLIGHT
BEGIN:STANDARD
TZOFFSETFROM:-0700
TZOFFSETTO:-0800
TZNAME:PST
DTSTART:20221106T090000
END:STANDARD
BEGIN:DAYLIGHT
TZOFFSETFROM:-0800
TZOFFSETTO:-0700
TZNAME:PDT
DTSTART:20230312T100000
END:DAYLIGHT
BEGIN:STANDARD
TZOFFSETFROM:-0700
TZOFFSETTO:-0800
TZNAME:PST
DTSTART:20231105T090000
END:STANDARD
END:VTIMEZONE
BEGIN:VEVENT
DTSTART;TZID=America/Los_Angeles:20221214T180000
DTEND;TZID=America/Los_Angeles:20221214T193000
DTSTAMP:20260423T025727
CREATED:20221116T013138Z
LAST-MODIFIED:20221116T013138Z
UID:8596-1671040800-1671046200@www.deborahmyerswellness.com
SUMMARY:Ultimate Holiday Survival Bootcamp
DESCRIPTION:Celebrate the holidays\, have fun\, and be calm\nThis is my gift to you! \nAll you need to do is set aside the time to join me! \nYou can feel better FAST if you know how to balance your body \nSpend time with me – and you will be ready to experience holiday magic \nYou will no longer feel like you need to survive the holidays! \nLet go of all your challenges – even around “holiday stuff” \nGive yourself the gift of joy and calm!\nYou will experience Easy Self-Help Acupressure and learn: \n\nHow to get and stay healthy and be productive\nHow to be centered and grounded – even during holiday events!\nCreative ways to be in gratitude and appreciate yourself\nBalance\, gratitude\, joy\, and magic can happen at the same time!\n\nRegister and get ready for a happy\, healthy holiday. \nShare the Ultimate Holiday Survival Bootcamp with your friends and family. \nShare this :
URL:https://www.deborahmyerswellness.com/event/ultimate-holiday-survival-bootcamp/
LOCATION:Zoom Room
CATEGORIES:Webinar
ATTACH;FMTTYPE=image/png:https://www.deborahmyerswellness.com/wp-content/uploads/2022/11/Ultimate-Holiday-Survival-Bootcamp-Time-Dec-14-2022-0600-PM-Pacific-Time.png
ORGANIZER;CN="Deborah Myers":MAILTO:deborah@deborahmyerswellness.com
END:VEVENT
BEGIN:VEVENT
DTSTART;TZID=America/Los_Angeles:20230118T180000
DTEND;TZID=America/Los_Angeles:20230118T193000
DTSTAMP:20260423T025727
CREATED:20221207T235710Z
LAST-MODIFIED:20221227T230014Z
UID:8654-1674064800-1674070200@www.deborahmyerswellness.com
SUMMARY:Get off the Struggle Bus
DESCRIPTION:Get off the struggle bus and into your limousine and manifest your dreams! Step into FEELING Empowered! Make 2023 super awesome! \n\nAre you buried in your to-do list?\nDo you KNOW that you have the resources to support you\, but you don’t have the energy to take action?\nAre you waking up with the energy to do all you want to and need to do?\nOr are you forgetting important actions you need to take because of overwhelming situationsand the chatter filling your mind?\nAre you agitated during the day? And blocking out what isn’t working?\n\nTime to get off the struggle bus and jump into the limo of prosperity\, productivity\, and joy\n\nIf you are ready for a NEW pattern to bring into your life\, let’s go!Discover that you\, your plan\, and your resources can all get on the same track when your energy is flowing!\nFulfill your dreams! \nDiscover YOU CAN take action and BE on track\nClimb into your limousine\, navigate through your days\, and let the good times roll!\nGet what you need to:\n\nFall asleep easily\, wake up rejuvenated\, and be ready to take action as your day begins!\nLet go of overwhelm\, agitation\, and the worry about “the list” and see what IS working!\nFeel the energy of vitality and ease and calm and SEE all your potential!\n\n  \nInteractive Self-Help Acupressure Workshop Two Wednesdays:\nJanuary 18 and 25\, 2023 6:00 to 7;30 pm PST\nYour investment\nRegular rate: $247 Early Bird rate: $147 (until January 7\, 2023)\nGive yourself a gift that allows you to make the most of 2023\nRegister\nShare this :
URL:https://www.deborahmyerswellness.com/event/get-off-the-struggle-bus/
LOCATION:Zoom Room
ATTACH;FMTTYPE=image/png:https://www.deborahmyerswellness.com/wp-content/uploads/2022/12/Struggle-Bus-Limited.png
ORGANIZER;CN="Deborah Myers":MAILTO:deborah@deborahmyerswellness.com
END:VEVENT
BEGIN:VEVENT
DTSTART;TZID=America/Los_Angeles:20230125T180000
DTEND;TZID=America/Los_Angeles:20230125T193000
DTSTAMP:20260423T025727
CREATED:20221208T000136Z
LAST-MODIFIED:20221227T214215Z
UID:8658-1674669600-1674675000@www.deborahmyerswellness.com
SUMMARY:Get off the Struggle Bus Week 2
DESCRIPTION:Get off the struggle bus and into your limousine and manifest your dreams! Step into FEELING Empowered! Make 2023 super awesome! \n\nAre you buried in your to-do list?\nDo you KNOW that you have the resources to support you\, but you don’t have the energy to take action?\nAre you waking up with the energy to do all you want to and need to do?\nOr are you forgetting important actions you need to take because of overwhelming situationsand the chatter filling your mind?\nAre you agitated during the day? And blocking out what isn’t working?\n\nTime to get off the struggle bus and jump into the limo of prosperity\, productivity\, and joy\n\nIf you are ready for a NEW pattern to bring into your life\, let’s go!Discover that you\, your plan\, and your resources can all get on the same track when your energy is flowing!\nFulfill your dreams! \nDiscover YOU CAN take action and BE on track\nClimb into your limousine\, navigate through your days\, and let the good times roll!\nGet what you need to:\n\nFall asleep easily\, wake up rejuvenated\, and be ready to take action as your day begins!\nLet go of overwhelm\, agitation\, and the worry about “the list” and see what IS working!\nFeel the energy of vitality and ease and calm and SEE all your potential!\n\n  \nInteractive Self-Help Acupressure Workshop Two Wednesdays:\nJanuary 18 and 25\, 2023 6:00 to 7;30 pm PST\nYour investment\nRegular rate: $247 Early Bird rate: $147 (until January 7\, 2023)\nGive yourself a gift that allows you to make the most of 2023\nRegister\nShare this :
URL:https://www.deborahmyerswellness.com/event/get-off-the-struggle-bus-week-2/
LOCATION:Zoom Room
ATTACH;FMTTYPE=image/png:https://www.deborahmyerswellness.com/wp-content/uploads/2022/12/Struggle-Bus-Limited.png
ORGANIZER;CN="Deborah Myers":MAILTO:deborah@deborahmyerswellness.com
END:VEVENT
BEGIN:VEVENT
DTSTART;TZID=America/Los_Angeles:20230222T180000
DTEND;TZID=America/Los_Angeles:20230222T200000
DTSTAMP:20260423T025727
CREATED:20230204T004956Z
LAST-MODIFIED:20260311T001401Z
UID:8805-1677088800-1677096000@www.deborahmyerswellness.com
SUMMARY:GPS for Body\, Mind & Spirit 2023
DESCRIPTION:10-Week Jin Shin Jyutsu Program—A Master Class combines Level One & Level Two Health at Your Fingertips Workshops—and much more! \n  \nAre YOU ready to be a true partner with your own body? Let the journey begin! \n  \nJoin me as we investigate the principles of energy balancing with Jin Shin Jyutsu and learn self-help techniques to enhance self-care and improve your energy level and well-being. For healthcare providers\, you’ll discover new ways to be with your clients and patients. \n  \nJennifer Cody\, Executive Coach\, describes the results of her journey: \n  \n“How can this Jin Shin Jyutsu be working? I couldn’t explain it\, but I could FEEL it\, so I signed up for Deborah’s Wellness Workshop to learn more about this mysterious technique and the magical way it was affecting my well-being. And I haven’t stopped—I have taken part in all of Deborah’s workshops\, including her Mastery Program. Now I have the magic recipe for creating balance right at my fingertips. It is a simple and easy way to make an enormous difference in your well-being. In addition\, Deborah’s self-help care program helps you regain control of the life you want—physically\, mentally\, emotionally\, and spiritually.” \n  \nGive yourself the gift of ten weeks and discover how to connect to your GPS and help your body navigate quickly and effortlessly! \n  \nTen Wednesday evenings for two hours for each class\, which amounts to 20 hours! And it’s live via Zoom from your own home. And your investment is only $1\,887.00. \n  \nIn this ten-week program\, you will learn hands-on techniques based upon the basic principles of Jin Shin Jyutsu and other related modalities. \n  \nHealth care providers—you will learn techniques that will complement what you already offer your clients. \n  \nWe will meet Wednesday evenings\, starting February 22\, 2023\, from 6:00-8:00 pm (Pacific). The last class is April 26\, 2023. \nYour investment in this program that will bring you comfort\, health\, and joy for the rest of your life is only $1\,887.00\, and it includes a copy of my manual “Energy Balancing Care Guide.” \n  \nI’m an approved provider of the California Board of Registered Nursing (Provider Number CEP12833). Reach out if you want to talk about CEUs. \nA message from Dale\, a massage therapist\, describes how learning Jin Shin Jyutsu has changed his life and his practice: \n“Without a doubt\, Deborah will unlock your potential for better health and well-being as well as add a whole new balance to your life.” \nRegister at: \nconta.cc/3X103fC \nor scan the QR Code \n \nShare this :
URL:https://www.deborahmyerswellness.com/event/2023-gps-for-mind-body-spirit/
LOCATION:Zoom Room
CATEGORIES:Workshop
ATTACH;FMTTYPE=image/png:https://www.deborahmyerswellness.com/wp-content/uploads/2023/02/iStock-1396813106-meditation-map.png
ORGANIZER;CN="Deborah Myers":MAILTO:deborah@deborahmyerswellness.com
END:VEVENT
BEGIN:VEVENT
DTSTART;TZID=America/Los_Angeles:20230309T190000
DTEND;TZID=America/Los_Angeles:20230309T203000
DTSTAMP:20260423T025727
CREATED:20230220T220831Z
LAST-MODIFIED:20230220T221228Z
UID:8865-1678388400-1678393800@www.deborahmyerswellness.com
SUMMARY:Penngrove School Productive Mindfulness Program
DESCRIPTION:How to Let Go of Stress and Anxiety and Optimize Learning\nThis workshop is part of the Productive Mindfulness School Program\, created by Deborah Myers\, founder of Deborah Myers Wellness. \nThe program covers how you can make a difference with your physical\, mental\, and emotional states of being. \nAnd it works for people of ages. There is no cost to you—it is a gift from the PTA! \nYou will learn how to use self-help acupressure to relieve stress and make life easier for everyone in your life! \nThere are three parts to the Productive Mindfulness Program: \n\nFirst\, the teachers attended a workshop on Wednesday\, February 15th.\nSecond\, your students are going to be attending a school assembly on March 1st.\nAnd the third part is for anyone who wants to take part in the workshop on March 9th.\n\nOn March 9th\, you will discover how to empower your children to succeed. \nThe Productive Mindfulness Program Helps: \n\nIntroduce mindfulness to improve health & sleep.\nImprove performance on exams\, sports\, & music.\nBalance emotions for happier interactions.\n\nThe Productive Mindfulness School Program offers practical self-help tools that can be used anytime. \nIn less than 10 minutes a day\, students can create a more positive\, successful school experience. \nIn this workshop\, you will learn a 9-step self-help acupressure flow. \nAnd you will get energy tips that can make a difference in your well-being on all levels! \nAnd\, this is easy\, fun\, and it is effective too. \nThe workshop will be recorded and made available to registrants. \nRegister for the Workshop\nShare this :
URL:https://www.deborahmyerswellness.com/event/penngrove-school-productive-mindfulness-rogram/
LOCATION:Zoom Room
CATEGORIES:Workshop
ATTACH;FMTTYPE=image/png:https://www.deborahmyerswellness.com/wp-content/uploads/2023/02/7thPositionBreathe300dpiCMYK.png
ORGANIZER;CN="Deborah Myers":MAILTO:deborah@deborahmyerswellness.com
END:VEVENT
END:VCALENDAR