BEGIN:VCALENDAR
VERSION:2.0
PRODID:-//Deborah Myers Wellness - ECPv6.14.2//NONSGML v1.0//EN
CALSCALE:GREGORIAN
METHOD:PUBLISH
X-ORIGINAL-URL:https://www.deborahmyerswellness.com
X-WR-CALDESC:Events for Deborah Myers Wellness
REFRESH-INTERVAL;VALUE=DURATION:PT1H
X-Robots-Tag:noindex
X-PUBLISHED-TTL:PT1H
BEGIN:VTIMEZONE
TZID:America/Los_Angeles
BEGIN:DAYLIGHT
TZOFFSETFROM:-0800
TZOFFSETTO:-0700
TZNAME:PDT
DTSTART:20200308T100000
END:DAYLIGHT
BEGIN:STANDARD
TZOFFSETFROM:-0700
TZOFFSETTO:-0800
TZNAME:PST
DTSTART:20201101T090000
END:STANDARD
END:VTIMEZONE
BEGIN:VEVENT
DTSTART;TZID=America/Los_Angeles:20200402T183000
DTEND;TZID=America/Los_Angeles:20200402T193000
DTSTAMP:20260424T211352
CREATED:20200330T231642Z
LAST-MODIFIED:20200331T010059Z
UID:5358-1585852200-1585855800@www.deborahmyerswellness.com
SUMMARY:Webinar - Wellness in the Time of Corona
DESCRIPTION:The dynamic duo of Dr. Shiroko Sokitch – MD/acupuncture and Deborah Myers – Jin Shin practitioner will share tips and tools for taking care of your health and your family’s health while in these stressful times. \nLearn from these experts how to increase your ability to stay healthy in body\, mind\, and spirit. These skills are tantamount to increasing your safety and longevity. Master these tools during this crisis and have them at your fingertips throughout your lives for ease and wellness. \nWe will cover: \n\nSelf-help acupressure routines.\nEnergy points for strengthening the immune system.\nConnecting with the expansion of breath.\nHow we can assist our bodies in creating consciousness and awareness during this topsy-turvy time.\nHow to bring clarity and focus to our mind and body.\n\nClick here to register for this free webinar!\nShare this :
URL:https://www.deborahmyerswellness.com/event/webinar-wellness-in-the-time-of-corona/
LOCATION:Shiroko’s Webinar Jam
CATEGORIES:Webinar
ORGANIZER;CN="Deborah Myers":MAILTO:deborah@deborahmyerswellness.com
END:VEVENT
BEGIN:VEVENT
DTSTART;TZID=America/Los_Angeles:20200413T183000
DTEND;TZID=America/Los_Angeles:20200413T193000
DTSTAMP:20260424T211352
CREATED:20200406T224213Z
LAST-MODIFIED:20200406T224213Z
UID:5426-1586802600-1586806200@www.deborahmyerswellness.com
SUMMARY:Reset Your Resilience Workshop
DESCRIPTION:Be a Cool Cat and Reset Your Resilience!\nDiscover that you can make a difference in your own health and vitality during this challenging and stressful time. Learn easy self-help acupressure and discover how to be a partner with your body. Get ahead of stress and anxiety so you can manage it. Help your body be healthier and stronger. \nFour Monday evenings: April 13\, 20\, 27\, May 4\, 6:30 to 7:30 pm\, Live Zoom meetings with handouts.\nRegister by clicking here\nRegistration closes April 10.  \nYour investment in your improved health: Only $89.00 for all 4 class meetings. You can also make two payments of $49.00. Pay online or by check. \nAfter registering\, you will receive a confirmation email containing information about joining the meetings. \nThe price of the class goes up to $236.00 after May 5. \nShare this :
URL:https://www.deborahmyerswellness.com/event/reset-your-resilience-workshop/
CATEGORIES:Webinar,Workshop
ATTACH;FMTTYPE=image/png:https://www.deborahmyerswellness.com/wp-content/uploads/2020/04/Cool-Cat.png
ORGANIZER;CN="Deborah Myers":MAILTO:deborah@deborahmyerswellness.com
END:VEVENT
BEGIN:VEVENT
DTSTART;TZID=America/Los_Angeles:20200420T183000
DTEND;TZID=America/Los_Angeles:20200420T193000
DTSTAMP:20260424T211352
CREATED:20200406T224325Z
LAST-MODIFIED:20200415T212732Z
UID:5433-1587407400-1587411000@www.deborahmyerswellness.com
SUMMARY:Reset Your Resilience Workshop Week 2
DESCRIPTION:Be a Cool Cat and Reset Your Resilience!\nDiscover that you can make a difference in your own health and vitality during this challenging and stressful time. Learn easy self-help acupressure and discover how to be a partner with your body. Get ahead of stress and anxiety so you can manage it. Help your body be healthier and stronger. \nFour Monday evenings: April 13\, 20\, 27\, May 4\, 6:30 to 7:30 pm\, Live Zoom meetings with handouts.\nRegister by clicking here\nAll webinars are live events. Replays will be offered afterward to those who register. \nYour investment in your improved health: Only $89.00 for all 4 class meetings. You can also make two payments of $49.00. Pay online or by check. \nAfter registering\, you will receive a confirmation email containing information about joining the meetings. \nThe price of the class goes up to $236.00 after May 5. \nA limited number of Energy Balancing Care Guides are available for purchase. \nShare this :
URL:https://www.deborahmyerswellness.com/event/reset-your-resilience-workshop-week-2/
CATEGORIES:Webinar,Workshop
ATTACH;FMTTYPE=image/png:https://www.deborahmyerswellness.com/wp-content/uploads/2020/04/Cool-Cat.png
ORGANIZER;CN="Deborah Myers":MAILTO:deborah@deborahmyerswellness.com
END:VEVENT
BEGIN:VEVENT
DTSTART;TZID=America/Los_Angeles:20200427T183000
DTEND;TZID=America/Los_Angeles:20200427T193000
DTSTAMP:20260424T211352
CREATED:20200406T224438Z
LAST-MODIFIED:20200415T213851Z
UID:5432-1588012200-1588015800@www.deborahmyerswellness.com
SUMMARY:Reset Your Resilience Workshop Week 3
DESCRIPTION:Be a Cool Cat and Reset Your Resilience!\nDiscover that you can make a difference in your own health and vitality during this challenging and stressful time. Learn easy self-help acupressure and discover how to be a partner with your body. Get ahead of stress and anxiety so you can manage it. Help your body be healthier and stronger. \nFour Monday evenings: April 13\, 20\, 27\, May 4\, 6:30 to 7:30 pm\, Live Zoom meetings with handouts.\nRegister by clicking here\nYour investment in your improved health: Only $89.00 for all 4 class meetings. You can also make two payments of $49.00. Pay online or by check. \nAfter registering\, you will receive a confirmation email containing information about joining the meetings. \nReplays of the webinars will be available approximately 48 hours after the live event. \nA few copies of the Energy Balancing Care Guides are available. Please contact Deborah to purchase. \nThe price of the class goes up to $236.00 after May 5. \nShare this :
URL:https://www.deborahmyerswellness.com/event/reset-your-resilience-workshop-week-3/
CATEGORIES:Webinar,Workshop
ATTACH;FMTTYPE=image/png:https://www.deborahmyerswellness.com/wp-content/uploads/2020/04/Cool-Cat.png
ORGANIZER;CN="Deborah Myers":MAILTO:deborah@deborahmyerswellness.com
END:VEVENT
END:VCALENDAR