BEGIN:VCALENDAR
VERSION:2.0
PRODID:-//Deborah Myers Wellness - ECPv6.14.2//NONSGML v1.0//EN
CALSCALE:GREGORIAN
METHOD:PUBLISH
X-ORIGINAL-URL:https://www.deborahmyerswellness.com
X-WR-CALDESC:Events for Deborah Myers Wellness
REFRESH-INTERVAL;VALUE=DURATION:PT1H
X-Robots-Tag:noindex
X-PUBLISHED-TTL:PT1H
BEGIN:VTIMEZONE
TZID:America/Los_Angeles
BEGIN:DAYLIGHT
TZOFFSETFROM:-0800
TZOFFSETTO:-0700
TZNAME:PDT
DTSTART:20200308T100000
END:DAYLIGHT
BEGIN:STANDARD
TZOFFSETFROM:-0700
TZOFFSETTO:-0800
TZNAME:PST
DTSTART:20201101T090000
END:STANDARD
END:VTIMEZONE
BEGIN:VEVENT
DTSTART;TZID=America/Los_Angeles:20200610T183000
DTEND;TZID=America/Los_Angeles:20200610T193000
DTSTAMP:20260424T182022
CREATED:20200527T183629Z
LAST-MODIFIED:20200529T194848Z
UID:5639-1591813800-1591817400@www.deborahmyerswellness.com
SUMMARY:Lower Your Stress Meter Fast!
DESCRIPTION:Lower Your Stress Meter Fast! \nStress takes away breath\, disrupts sleep\, amplifies emotions\, causes body pain\, and dampens immune response. Add in fatigue from living in close quarters\, and explosions may ensue! \nDiscover easy-to-learn and remember ways to get ahead of anxiety and stress. \nRegister for this 3-week workshop series and leave all of that behind. \nWe will meet 3 times \nWednesday evenings on June 10\, 17 and 24  \n6:30 pm to 7:30 pm\n \nLive Zoom meetings with handouts. \nRegistration will close on June 8. \nClick to Register\nMeetings will take place via Zoom. You will receive an email with instructions for joining the webinars after you register. You can join via computer\, mobile devices\, or phone. \nWe will record the sessions and make them available to those who register. We encourage you to attend the live event and take part in the Q&A. \nMore Information \nWe will cover how to easily and effortlessly create balance and harmony and improve your sense of wellness and health: \n\nExperience your body as an energy system. Being in touch with your body will become second nature. And you’ll discover your breath\, ease\, calm\, and vitality.\nBoost the immune\, endocrine\, and adrenal systems. Help your body become healthier and more robust.\nYou will be better prepared to handle potential exposure to viruses and bacteria. AND gain knowledge of how to improve your sleep!\nManage pain and recover from trauma\nEnergy tips to promote healing\, relieve pain\, and let go of symptoms. Whether from flu\, respiratory conditions\, injuries\, post-surgery\, chronic conditions\, or emotional distress.\nManage feelings and emotions: recognize them and re-pattern them so you can effortlessly have positive\, smoother experiences instead of stumbling blocks.\n\nYou will gain tools to last a lifetime and your investment in your improved health is only $77.00 for all 3 class meetings. \nShare this :
URL:https://www.deborahmyerswellness.com/event/lower-your-stress-meter-fast/
LOCATION:Zoom Room
CATEGORIES:Webinar,Workshop
ATTACH;FMTTYPE=image/jpeg:https://www.deborahmyerswellness.com/wp-content/uploads/2020/05/Angry-young-girl-Blowing-Steam-coming-out-of-ears-666079176_5000x3946.jpg
ORGANIZER;CN="Deborah Myers":MAILTO:deborah@deborahmyerswellness.com
END:VEVENT
BEGIN:VEVENT
DTSTART;TZID=America/Los_Angeles:20200617T183000
DTEND;TZID=America/Los_Angeles:20200617T183000
DTSTAMP:20260424T182022
CREATED:20200527T184214Z
LAST-MODIFIED:20200529T194850Z
UID:5647-1592418600-1592418600@www.deborahmyerswellness.com
SUMMARY:Lower Your Stress Meter Fast!
DESCRIPTION:Lower Your Stress Meter Fast! \nStress takes away breath\, disrupts sleep\, amplifies emotions\, causes body pain\, and dampens immune response. Add in fatigue from living in close quarters\, and explosions may ensue! \nDiscover easy-to-learn and remember ways to get ahead of anxiety and stress.\nRegister for this 3-week workshop series and leave all of that behind. \nWe will meet 3 times \nWednesday evenings on June 10\, 17 and 24 \n6:30 pm to 7:30 pm \nLive Zoom meetings with handouts. \nRegistration will close on June 8. \nClick to Register\nMeetings will take place via Zoom. You will receive an email with instructions for joining the webinars after you register. You can join via computer\, mobile devices\, or phone. \nWe will record the sessions and make them available to those who register. We encourage you to attend the live event and take part in the Q&A. \nMore Information\nWe will cover how to easily and effortlessly create balance and harmony and improve your sense of wellness and health: \n\nExperience your body as an energy system. Being in touch with your body will become second nature. And you’ll discover your breath\, ease\, calm\, and vitality.\nBoost the immune\, endocrine\, and adrenal systems. Help your body become healthier and more robust.\nYou will be better prepared to handle potential exposure to viruses and bacteria. AND gain knowledge of how to improve your sleep!\nManage pain and recover from trauma\nEnergy tips to promote healing\, relieve pain\, and let go of symptoms. Whether from flu\, respiratory conditions\, injuries\, post-surgery\, chronic conditions\, or emotional distress.\nManage feelings and emotions: recognize them and re-pattern them so you can effortlessly have positive\, smoother experiences instead of stumbling blocks.\n\nYou will gain tools to last a lifetime and your investment in your improved health is only $77.00 for all 3 class meetings. \nShare this :
URL:https://www.deborahmyerswellness.com/event/lower-your-stress-meter-fast-2/
LOCATION:Zoom Room
CATEGORIES:Webinar,Workshop
ATTACH;FMTTYPE=image/jpeg:https://www.deborahmyerswellness.com/wp-content/uploads/2020/05/Angry-young-girl-Blowing-Steam-coming-out-of-ears-666079176_5000x3946.jpg
ORGANIZER;CN="Deborah Myers":MAILTO:deborah@deborahmyerswellness.com
END:VEVENT
BEGIN:VEVENT
DTSTART;TZID=America/Los_Angeles:20200624T183000
DTEND;TZID=America/Los_Angeles:20200624T193000
DTSTAMP:20260424T182022
CREATED:20200527T184304Z
LAST-MODIFIED:20200529T194854Z
UID:5649-1593023400-1593027000@www.deborahmyerswellness.com
SUMMARY:Lower Your Stress Meter Fast!
DESCRIPTION:Lower Your Stress Meter Fast! \nStress takes away breath\, disrupts sleep\, amplifies emotions\, causes body pain\, and dampens immune response. Add in fatigue from living in close quarters\, and explosions may ensue! \nDiscover easy-to-learn and remember ways to get ahead of anxiety and stress. \nRegister for this 3-week workshop series and leave all of that behind. \nWe will meet 3 times \nWednesday evenings on June 10\, 17 and 24 \n6:30 pm to 7:30 pm \nLive Zoom meetings with handouts.\n \nRegistration will close on June 8. \nClick to Register\nMeetings will take place via Zoom. You will receive an email with instructions for joining the webinars after you register. You can join via computer\, mobile devices\, or phone. \nWe will record the sessions and make them available to those who register. We encourage you to attend the live event and take part in the Q&A. \nMore Information \nWe will cover how to easily and effortlessly create balance and harmony and improve your sense of wellness and health: \n\nExperience your body as an energy system. Being in touch with your body will become second nature. And you’ll discover your breath\, ease\, calm\, and vitality.\nBoost the immune\, endocrine\, and adrenal systems. Help your body become healthier and more robust.\nYou will be better prepared to handle potential exposure to viruses and bacteria. AND gain knowledge of how to improve your sleep!\nManage pain and recover from trauma\nEnergy tips to promote healing\, relieve pain\, and let go of symptoms. Whether from flu\, respiratory conditions\, injuries\, post-surgery\, chronic conditions\, or emotional distress.\nManage feelings and emotions: recognize them and re-pattern them so you can effortlessly have positive\, smoother experiences instead of stumbling blocks.\n\nYou will gain tools to last a lifetime and your investment in your improved health is only $77.00 for all 3 class meetings. \nShare this :
URL:https://www.deborahmyerswellness.com/event/lower-your-stress-meter-fast-3/
LOCATION:Zoom Room
CATEGORIES:Webinar,Workshop
ATTACH;FMTTYPE=image/jpeg:https://www.deborahmyerswellness.com/wp-content/uploads/2020/05/Angry-young-girl-Blowing-Steam-coming-out-of-ears-666079176_5000x3946.jpg
ORGANIZER;CN="Deborah Myers":MAILTO:deborah@deborahmyerswellness.com
END:VEVENT
END:VCALENDAR